Package: sSNAPPY Version: 1.11.0 Command: E:\biocbuild\bbs-3.21-bioc\R\bin\R.exe CMD INSTALL sSNAPPY StartedAt: 2025-02-03 16:20:35 -0500 (Mon, 03 Feb 2025) EndedAt: 2025-02-03 16:21:14 -0500 (Mon, 03 Feb 2025) EllapsedTime: 38.9 seconds RetCode: 0 Status: OK