Package: sagenhaft Version: 1.77.0 Command: /Library/Frameworks/R.framework/Resources/bin/R CMD build --keep-empty-dirs --no-resave-data sagenhaft StartedAt: 2025-02-03 18:05:07 -0500 (Mon, 03 Feb 2025) EndedAt: 2025-02-03 18:05:12 -0500 (Mon, 03 Feb 2025) EllapsedTime: 5.1 seconds RetCode: 0 Status: OK PackageFile: sagenhaft_1.77.0.tar.gz PackageFileSize: 2.583 MiB