Package: sagenhaft Version: 1.77.0 Command: /Library/Frameworks/R.framework/Resources/bin/R CMD check --install=check:sagenhaft.install-out.txt --library=/Library/Frameworks/R.framework/Resources/library --no-vignettes --timings sagenhaft_1.77.0.tar.gz StartedAt: 2025-02-09 21:07:33 -0500 (Sun, 09 Feb 2025) EndedAt: 2025-02-09 21:08:02 -0500 (Sun, 09 Feb 2025) EllapsedTime: 28.4 seconds RetCode: 0 Status: WARNINGS CheckDir: sagenhaft.Rcheck Warnings: 1