Package: sagenhaft Version: 1.77.0 Command: /Library/Frameworks/R.framework/Resources/bin/R CMD INSTALL sagenhaft StartedAt: 2025-02-05 15:02:31 -0500 (Wed, 05 Feb 2025) EndedAt: 2025-02-05 15:02:39 -0500 (Wed, 05 Feb 2025) EllapsedTime: 7.7 seconds RetCode: 0 Status: OK