Package: sagenhaft Version: 1.77.0 Command: /home/biocbuild/R/R/bin/R CMD check --install=check:sagenhaft.install-out.txt --library=/home/biocbuild/R/R/site-library --no-vignettes --timings sagenhaft_1.77.0.tar.gz StartedAt: 2025-01-28 14:51:14 -0000 (Tue, 28 Jan 2025) EndedAt: 2025-01-28 14:52:59 -0000 (Tue, 28 Jan 2025) EllapsedTime: 104.1 seconds RetCode: 0 Status: WARNINGS CheckDir: sagenhaft.Rcheck Warnings: 1