Package: sagenhaft Version: 1.77.0 Command: /Library/Frameworks/R.framework/Resources/bin/R CMD INSTALL sagenhaft StartedAt: 2025-02-03 15:10:51 -0500 (Mon, 03 Feb 2025) EndedAt: 2025-02-03 15:11:16 -0500 (Mon, 03 Feb 2025) EllapsedTime: 24.4 seconds RetCode: 0 Status: OK