Package: sagenhaft Version: 1.77.0 Command: /home/biocbuild/bbs-3.21-bioc/R/bin/R CMD build --keep-empty-dirs --no-resave-data sagenhaft StartedAt: 2025-02-03 19:11:41 -0500 (Mon, 03 Feb 2025) EndedAt: 2025-02-03 19:11:49 -0500 (Mon, 03 Feb 2025) EllapsedTime: 8.0 seconds RetCode: 0 Status: OK PackageFile: sagenhaft_1.77.0.tar.gz PackageFileSize: 2.583 MiB