Package: sagenhaft Version: 1.77.0 Command: /home/biocbuild/bbs-3.21-bioc/R/bin/R CMD check --install=check:sagenhaft.install-out.txt --library=/home/biocbuild/bbs-3.21-bioc/R/site-library --timings sagenhaft_1.77.0.tar.gz StartedAt: 2025-02-04 02:17:46 -0500 (Tue, 04 Feb 2025) EndedAt: 2025-02-04 02:18:53 -0500 (Tue, 04 Feb 2025) EllapsedTime: 67.1 seconds RetCode: 0 Status: WARNINGS CheckDir: sagenhaft.Rcheck Warnings: 1