Package: sagenhaft Version: 1.77.0 Command: rm -rf sagenhaft.buildbin-libdir && mkdir sagenhaft.buildbin-libdir && E:\biocbuild\bbs-3.21-bioc\R\bin\R.exe CMD INSTALL --build --library=sagenhaft.buildbin-libdir sagenhaft_1.77.0.tar.gz StartedAt: 2025-02-10 08:36:52 -0500 (Mon, 10 Feb 2025) EndedAt: 2025-02-10 08:37:00 -0500 (Mon, 10 Feb 2025) EllapsedTime: 8.1 seconds RetCode: 0 Status: OK PackageFile: sagenhaft_1.77.0.zip PackageFileSize: 2.573 MiB