Package: sagenhaft Version: 1.77.0 Command: E:\biocbuild\bbs-3.21-bioc\R\bin\R.exe CMD check --no-multiarch --install=check:sagenhaft.install-out.txt --library=E:\biocbuild\bbs-3.21-bioc\R\library --no-vignettes --timings sagenhaft_1.77.0.tar.gz StartedAt: 2025-02-06 05:28:12 -0500 (Thu, 06 Feb 2025) EndedAt: 2025-02-06 05:29:52 -0500 (Thu, 06 Feb 2025) EllapsedTime: 99.9 seconds RetCode: 0 Status: WARNINGS CheckDir: sagenhaft.Rcheck Warnings: 1