Package: sagenhaft Version: 1.77.0 Command: E:\biocbuild\bbs-3.21-bioc\R\bin\R.exe CMD INSTALL sagenhaft StartedAt: 2025-02-03 15:35:11 -0500 (Mon, 03 Feb 2025) EndedAt: 2025-02-03 15:35:26 -0500 (Mon, 03 Feb 2025) EllapsedTime: 15.0 seconds RetCode: 0 Status: OK