Package: sampleClassifier Version: 1.31.0 Command: /home/biocbuild/R/R/bin/R CMD INSTALL sampleClassifier StartedAt: 2025-01-29 20:01:48 -0000 (Wed, 29 Jan 2025) EndedAt: 2025-01-29 20:02:09 -0000 (Wed, 29 Jan 2025) EllapsedTime: 21.3 seconds RetCode: 0 Status: OK