Package: sampleClassifier Version: 1.31.0 Command: /Library/Frameworks/R.framework/Resources/bin/R CMD build --keep-empty-dirs --no-resave-data sampleClassifier StartedAt: 2025-02-12 18:09:00 -0500 (Wed, 12 Feb 2025) EndedAt: 2025-02-12 18:11:31 -0500 (Wed, 12 Feb 2025) EllapsedTime: 151.1 seconds RetCode: 0 Status: OK PackageFile: sampleClassifier_1.31.0.tar.gz PackageFileSize: 239 KiB