Package: sampleClassifier Version: 1.31.0 Command: /home/biocbuild/bbs-3.21-bioc/R/bin/R CMD INSTALL sampleClassifier StartedAt: 2025-02-09 15:28:10 -0500 (Sun, 09 Feb 2025) EndedAt: 2025-02-09 15:28:26 -0500 (Sun, 09 Feb 2025) EllapsedTime: 15.9 seconds RetCode: 0 Status: OK