Package: sampleClassifier Version: 1.31.0 Command: E:\biocbuild\bbs-3.21-bioc\R\bin\R.exe CMD INSTALL sampleClassifier StartedAt: 2025-02-09 15:51:26 -0500 (Sun, 09 Feb 2025) EndedAt: 2025-02-09 15:51:56 -0500 (Sun, 09 Feb 2025) EllapsedTime: 30.1 seconds RetCode: 0 Status: OK