Package: sangeranalyseR Version: 1.17.0 Command: /home/biocbuild/bbs-3.21-bioc/R/bin/R CMD check --install=check:sangeranalyseR.install-out.txt --library=/home/biocbuild/bbs-3.21-bioc/R/site-library --timings sangeranalyseR_1.17.0.tar.gz StartedAt: 2025-02-13 02:13:02 -0500 (Thu, 13 Feb 2025) EndedAt: 2025-02-13 02:15:42 -0500 (Thu, 13 Feb 2025) EllapsedTime: 159.3 seconds RetCode: 1 Status: ERROR CheckDir: sangeranalyseR.Rcheck Warnings: NA