Package: sangeranalyseR Version: 1.17.0 Command: /home/biocbuild/bbs-3.21-bioc/R/bin/R CMD INSTALL sangeranalyseR StartedAt: 2025-02-12 15:50:14 -0500 (Wed, 12 Feb 2025) EndedAt: 2025-02-12 15:50:37 -0500 (Wed, 12 Feb 2025) EllapsedTime: 22.9 seconds RetCode: 0 Status: OK