Package: sangeranalyseR Version: 1.17.0 Command: chmod a+r sangeranalyseR -R && E:\biocbuild\bbs-3.21-bioc\R\bin\R.exe CMD build --keep-empty-dirs --no-resave-data sangeranalyseR StartedAt: 2025-02-09 21:21:30 -0500 (Sun, 09 Feb 2025) EndedAt: 2025-02-09 21:25:07 -0500 (Sun, 09 Feb 2025) EllapsedTime: 217.2 seconds RetCode: 0 Status: OK PackageFile: sangeranalyseR_1.17.0.tar.gz PackageFileSize: 38.15 MiB