Package: saseR Version: 1.3.0 Command: /Library/Frameworks/R.framework/Resources/bin/R CMD build --keep-empty-dirs --no-resave-data saseR StartedAt: 2025-02-12 17:29:16 -0500 (Wed, 12 Feb 2025) EndedAt: 2025-02-12 17:31:15 -0500 (Wed, 12 Feb 2025) EllapsedTime: 119.4 seconds RetCode: 0 Status: OK PackageFile: saseR_1.3.0.tar.gz PackageFileSize: 1.207 MiB