Package: saseR Version: 1.3.0 Command: rm -rf saseR.buildbin-libdir && mkdir saseR.buildbin-libdir && /Users/biocbuild/BBS/utils/build-universal.sh saseR_1.3.0.tar.gz /Library/Frameworks/R.framework/Resources/bin/R saseR.buildbin-libdir StartedAt: 2025-02-10 01:14:04 -0500 (Mon, 10 Feb 2025) EndedAt: 2025-02-10 01:15:27 -0500 (Mon, 10 Feb 2025) EllapsedTime: 82.9 seconds RetCode: 0 Status: OK PackageFile: saseR_1.3.0.tgz PackageFileSize: 1.359 MiB