Package: saseR Version: 1.3.0 Command: /Library/Frameworks/R.framework/Resources/bin/R CMD check --install=check:saseR.install-out.txt --library=/Library/Frameworks/R.framework/Resources/library --no-vignettes --timings saseR_1.3.0.tar.gz StartedAt: 2025-02-09 23:20:15 -0500 (Sun, 09 Feb 2025) EndedAt: 2025-02-09 23:28:43 -0500 (Sun, 09 Feb 2025) EllapsedTime: 507.6 seconds RetCode: 0 Status: WARNINGS CheckDir: saseR.Rcheck Warnings: 1