Package: saseR Version: 1.3.0 Command: /Library/Frameworks/R.framework/Resources/bin/R CMD INSTALL saseR StartedAt: 2025-02-09 15:37:27 -0500 (Sun, 09 Feb 2025) EndedAt: 2025-02-09 15:38:47 -0500 (Sun, 09 Feb 2025) EllapsedTime: 79.9 seconds RetCode: 0 Status: OK