Package: saseR Version: 1.3.0 Command: /home/biocbuild/bbs-3.21-bioc/R/bin/R CMD build --keep-empty-dirs --no-resave-data saseR StartedAt: 2025-02-09 19:03:47 -0500 (Sun, 09 Feb 2025) EndedAt: 2025-02-09 19:08:16 -0500 (Sun, 09 Feb 2025) EllapsedTime: 269.4 seconds RetCode: 0 Status: OK PackageFile: saseR_1.3.0.tar.gz PackageFileSize: 1.207 MiB