Package: saseR Version: 1.3.0 Command: /home/biocbuild/bbs-3.21-bioc/R/bin/R CMD INSTALL saseR StartedAt: 2025-02-09 15:48:16 -0500 (Sun, 09 Feb 2025) EndedAt: 2025-02-09 15:49:15 -0500 (Sun, 09 Feb 2025) EllapsedTime: 59.1 seconds RetCode: 0 Status: OK