Package: saseR Version: 1.3.0 Command: rm -rf saseR.buildbin-libdir && mkdir saseR.buildbin-libdir && E:\biocbuild\bbs-3.21-bioc\R\bin\R.exe CMD INSTALL --build --library=saseR.buildbin-libdir saseR_1.3.0.tar.gz StartedAt: 2025-02-11 08:51:02 -0500 (Tue, 11 Feb 2025) EndedAt: 2025-02-11 08:52:19 -0500 (Tue, 11 Feb 2025) EllapsedTime: 77.7 seconds RetCode: 0 Status: OK PackageFile: saseR_1.3.0.zip PackageFileSize: 1.366 MiB