Package: saseR Version: 1.3.0 Command: chmod a+r saseR -R && E:\biocbuild\bbs-3.21-bioc\R\bin\R.exe CMD build --keep-empty-dirs --no-resave-data saseR StartedAt: 2025-02-10 21:34:39 -0500 (Mon, 10 Feb 2025) EndedAt: 2025-02-10 21:40:00 -0500 (Mon, 10 Feb 2025) EllapsedTime: 321.0 seconds RetCode: 0 Status: OK PackageFile: saseR_1.3.0.tar.gz PackageFileSize: 1.207 MiB