Package: scAnnotatR Version: 1.13.0 Command: rm -rf scAnnotatR.buildbin-libdir && mkdir scAnnotatR.buildbin-libdir && /Users/biocbuild/BBS/utils/build-universal.sh scAnnotatR_1.13.0.tar.gz /Library/Frameworks/R.framework/Resources/bin/R scAnnotatR.buildbin-libdir StartedAt: 2025-02-09 22:29:20 -0500 (Sun, 09 Feb 2025) EndedAt: 2025-02-09 22:29:41 -0500 (Sun, 09 Feb 2025) EllapsedTime: 21.4 seconds RetCode: 0 Status: OK PackageFile: scAnnotatR_1.13.0.tgz PackageFileSize: 1.033 MiB