Package: scAnnotatR Version: 1.13.0 Command: /Library/Frameworks/R.framework/Resources/bin/R CMD INSTALL scAnnotatR StartedAt: 2025-02-09 15:23:50 -0500 (Sun, 09 Feb 2025) EndedAt: 2025-02-09 15:24:10 -0500 (Sun, 09 Feb 2025) EllapsedTime: 19.2 seconds RetCode: 0 Status: OK