Package: scAnnotatR Version: 1.13.0 Command: rm -rf scAnnotatR.buildbin-libdir && mkdir scAnnotatR.buildbin-libdir && /Users/biocbuild/BBS/utils/build-universal.sh scAnnotatR_1.13.0.tar.gz /Library/Frameworks/R.framework/Resources/bin/R scAnnotatR.buildbin-libdir StartedAt: 2025-02-10 01:14:18 -0500 (Mon, 10 Feb 2025) EndedAt: 2025-02-10 01:15:28 -0500 (Mon, 10 Feb 2025) EllapsedTime: 70.3 seconds RetCode: 0 Status: OK PackageFile: scAnnotatR_1.13.0.tgz PackageFileSize: 1.032 MiB