Package: scAnnotatR Version: 1.13.0 Command: /Library/Frameworks/R.framework/Resources/bin/R CMD build --keep-empty-dirs --no-resave-data scAnnotatR StartedAt: 2025-02-09 18:17:19 -0500 (Sun, 09 Feb 2025) EndedAt: 2025-02-09 18:28:21 -0500 (Sun, 09 Feb 2025) EllapsedTime: 662.3 seconds RetCode: 0 Status: OK PackageFile: scAnnotatR_1.13.0.tar.gz PackageFileSize: 582.1 KiB