Package: scAnnotatR Version: 1.13.0 Command: /home/biocbuild/bbs-3.21-bioc/R/bin/R CMD INSTALL scAnnotatR StartedAt: 2025-02-09 15:25:15 -0500 (Sun, 09 Feb 2025) EndedAt: 2025-02-09 15:26:03 -0500 (Sun, 09 Feb 2025) EllapsedTime: 47.5 seconds RetCode: 0 Status: OK