Package: scAnnotatR Version: 1.13.0 Command: rm -rf scAnnotatR.buildbin-libdir && mkdir scAnnotatR.buildbin-libdir && E:\biocbuild\bbs-3.21-bioc\R\bin\R.exe CMD INSTALL --build --library=scAnnotatR.buildbin-libdir scAnnotatR_1.13.0.tar.gz StartedAt: 2025-02-10 08:37:39 -0500 (Mon, 10 Feb 2025) EndedAt: 2025-02-10 08:39:26 -0500 (Mon, 10 Feb 2025) EllapsedTime: 106.9 seconds RetCode: 0 Status: OK PackageFile: scAnnotatR_1.13.0.zip PackageFileSize: 936.4 KiB