Package: scAnnotatR Version: 1.13.0 Command: chmod a+r scAnnotatR -R && E:\biocbuild\bbs-3.21-bioc\R\bin\R.exe CMD build --keep-empty-dirs --no-resave-data scAnnotatR StartedAt: 2025-02-09 21:23:22 -0500 (Sun, 09 Feb 2025) EndedAt: 2025-02-09 21:34:45 -0500 (Sun, 09 Feb 2025) EllapsedTime: 683.6 seconds RetCode: 0 Status: OK PackageFile: scAnnotatR_1.13.0.tar.gz PackageFileSize: 454.9 KiB