Package: scAnnotatR Version: 1.13.0 Command: E:\biocbuild\bbs-3.21-bioc\R\bin\R.exe CMD INSTALL scAnnotatR StartedAt: 2025-02-09 16:34:05 -0500 (Sun, 09 Feb 2025) EndedAt: 2025-02-09 16:35:18 -0500 (Sun, 09 Feb 2025) EllapsedTime: 72.6 seconds RetCode: 0 Status: OK