Package: scBFA Version: 1.21.0 Command: /Library/Frameworks/R.framework/Resources/bin/R CMD check --install=check:scBFA.install-out.txt --library=/Library/Frameworks/R.framework/Resources/library --no-vignettes --timings scBFA_1.21.0.tar.gz StartedAt: 2025-02-03 21:45:32 -0500 (Mon, 03 Feb 2025) EndedAt: 2025-02-03 21:47:36 -0500 (Mon, 03 Feb 2025) EllapsedTime: 123.5 seconds RetCode: 0 Status: OK CheckDir: scBFA.Rcheck Warnings: 0