Package: scBFA Version: 1.21.0 Command: /Library/Frameworks/R.framework/Resources/bin/R CMD INSTALL scBFA StartedAt: 2025-02-09 15:21:40 -0500 (Sun, 09 Feb 2025) EndedAt: 2025-02-09 15:21:58 -0500 (Sun, 09 Feb 2025) EllapsedTime: 17.3 seconds RetCode: 0 Status: OK