Package: scBFA Version: 1.21.0 Command: /home/biocbuild/R/R/bin/R CMD build --keep-empty-dirs --no-resave-data scBFA StartedAt: 2025-01-29 02:00:23 -0000 (Wed, 29 Jan 2025) EndedAt: 2025-01-29 02:01:58 -0000 (Wed, 29 Jan 2025) EllapsedTime: 95.1 seconds RetCode: 0 Status: OK PackageFile: scBFA_1.21.0.tar.gz PackageFileSize: 990.6 KiB