Package: scBFA Version: 1.21.0 Command: /home/biocbuild/R/R/bin/R CMD check --install=check:scBFA.install-out.txt --library=/home/biocbuild/R/R/site-library --no-vignettes --timings scBFA_1.21.0.tar.gz StartedAt: 2025-01-28 14:55:48 -0000 (Tue, 28 Jan 2025) EndedAt: 2025-01-28 15:02:59 -0000 (Tue, 28 Jan 2025) EllapsedTime: 431.4 seconds RetCode: 0 Status: OK CheckDir: scBFA.Rcheck Warnings: 0