Package: scBFA Version: 1.21.0 Command: /Library/Frameworks/R.framework/Resources/bin/R CMD build --keep-empty-dirs --no-resave-data scBFA StartedAt: 2025-02-03 18:14:25 -0500 (Mon, 03 Feb 2025) EndedAt: 2025-02-03 18:15:57 -0500 (Mon, 03 Feb 2025) EllapsedTime: 91.8 seconds RetCode: 0 Status: OK PackageFile: scBFA_1.21.0.tar.gz PackageFileSize: 1.209 MiB