Package: scBFA Version: 1.21.0 Command: /Library/Frameworks/R.framework/Resources/bin/R CMD check --install=check:scBFA.install-out.txt --library=/Library/Frameworks/R.framework/Resources/library --no-vignettes --timings scBFA_1.21.0.tar.gz StartedAt: 2025-02-09 23:21:40 -0500 (Sun, 09 Feb 2025) EndedAt: 2025-02-09 23:28:02 -0500 (Sun, 09 Feb 2025) EllapsedTime: 381.1 seconds RetCode: 0 Status: OK CheckDir: scBFA.Rcheck Warnings: 0