Package: scBFA Version: 1.21.0 Command: /Library/Frameworks/R.framework/Resources/bin/R CMD INSTALL scBFA StartedAt: 2025-02-09 15:35:11 -0500 (Sun, 09 Feb 2025) EndedAt: 2025-02-09 15:36:14 -0500 (Sun, 09 Feb 2025) EllapsedTime: 62.8 seconds RetCode: 0 Status: OK