Package: scBFA Version: 1.21.0 Command: /home/biocbuild/bbs-3.21-bioc/R/bin/R CMD check --install=check:scBFA.install-out.txt --library=/home/biocbuild/bbs-3.21-bioc/R/site-library --timings scBFA_1.21.0.tar.gz StartedAt: 2025-02-10 02:14:44 -0500 (Mon, 10 Feb 2025) EndedAt: 2025-02-10 02:21:44 -0500 (Mon, 10 Feb 2025) EllapsedTime: 420.5 seconds RetCode: 0 Status: OK CheckDir: scBFA.Rcheck Warnings: 0