Package: scBFA Version: 1.21.0 Command: /home/biocbuild/bbs-3.21-bioc/R/bin/R CMD INSTALL scBFA StartedAt: 2025-02-09 15:28:11 -0500 (Sun, 09 Feb 2025) EndedAt: 2025-02-09 15:28:58 -0500 (Sun, 09 Feb 2025) EllapsedTime: 46.5 seconds RetCode: 0 Status: OK