Package: scBFA Version: 1.21.0 Command: rm -rf scBFA.buildbin-libdir && mkdir scBFA.buildbin-libdir && E:\biocbuild\bbs-3.21-bioc\R\bin\R.exe CMD INSTALL --build --library=scBFA.buildbin-libdir scBFA_1.21.0.tar.gz StartedAt: 2025-02-04 08:51:19 -0500 (Tue, 04 Feb 2025) EndedAt: 2025-02-04 08:52:21 -0500 (Tue, 04 Feb 2025) EllapsedTime: 62.0 seconds RetCode: 0 Status: OK PackageFile: scBFA_1.21.0.zip PackageFileSize: 1004 KiB