Package: scBFA Version: 1.21.0 Command: chmod a+r scBFA -R && E:\biocbuild\bbs-3.21-bioc\R\bin\R.exe CMD build --keep-empty-dirs --no-resave-data scBFA StartedAt: 2025-02-03 21:37:41 -0500 (Mon, 03 Feb 2025) EndedAt: 2025-02-03 21:39:28 -0500 (Mon, 03 Feb 2025) EllapsedTime: 106.9 seconds RetCode: 0 Status: OK PackageFile: scBFA_1.21.0.tar.gz PackageFileSize: 934.8 KiB