Package: scBFA Version: 1.21.0 Command: E:\biocbuild\bbs-3.21-bioc\R\bin\R.exe CMD check --no-multiarch --install=check:scBFA.install-out.txt --library=E:\biocbuild\bbs-3.21-bioc\R\library --no-vignettes --timings scBFA_1.21.0.tar.gz StartedAt: 2025-02-04 05:29:24 -0500 (Tue, 04 Feb 2025) EndedAt: 2025-02-04 05:35:44 -0500 (Tue, 04 Feb 2025) EllapsedTime: 379.2 seconds RetCode: 0 Status: OK CheckDir: scBFA.Rcheck Warnings: 0