Package: scCB2 Version: 1.17.0 Command: /Library/Frameworks/R.framework/Resources/bin/R CMD build --keep-empty-dirs --no-resave-data scCB2 StartedAt: 2025-02-09 18:18:17 -0500 (Sun, 09 Feb 2025) EndedAt: 2025-02-09 18:22:43 -0500 (Sun, 09 Feb 2025) EllapsedTime: 265.5 seconds RetCode: 0 Status: OK PackageFile: scCB2_1.17.0.tar.gz PackageFileSize: 847.1 KiB