Package: scCB2 Version: 1.17.0 Command: /home/biocbuild/bbs-3.21-bioc/R/bin/R CMD build --keep-empty-dirs --no-resave-data scCB2 StartedAt: 2025-02-09 19:05:35 -0500 (Sun, 09 Feb 2025) EndedAt: 2025-02-09 19:09:20 -0500 (Sun, 09 Feb 2025) EllapsedTime: 224.3 seconds RetCode: 0 Status: OK PackageFile: scCB2_1.17.0.tar.gz PackageFileSize: 847.2 KiB