Package: scDD Version: 1.31.0 Command: rm -rf scDD.buildbin-libdir && mkdir scDD.buildbin-libdir && /Users/biocbuild/BBS/utils/build-universal.sh scDD_1.31.0.tar.gz /Library/Frameworks/R.framework/Resources/bin/R scDD.buildbin-libdir StartedAt: 2025-02-10 01:14:37 -0500 (Mon, 10 Feb 2025) EndedAt: 2025-02-10 01:15:27 -0500 (Mon, 10 Feb 2025) EllapsedTime: 50.7 seconds RetCode: 0 Status: OK PackageFile: scDD_1.31.0.tgz PackageFileSize: 1024 KiB