Package: scDD Version: 1.31.0 Command: /Library/Frameworks/R.framework/Resources/bin/R CMD build --keep-empty-dirs --no-resave-data scDD StartedAt: 2025-02-09 18:18:56 -0500 (Sun, 09 Feb 2025) EndedAt: 2025-02-09 18:21:36 -0500 (Sun, 09 Feb 2025) EllapsedTime: 160.0 seconds RetCode: 0 Status: OK PackageFile: scDD_1.31.0.tar.gz PackageFileSize: 846.9 KiB